View In:
ArcMap
ArcGIS Explorer
ArcGIS JavaScript
Google Earth
View Footprint In:
Google Earth
Service Description:
Map Name: Layers
Layers:
Description:
Copyright Text:
Spatial Reference: PROJCS["Transverse Mercator",GEOGCS["GCS_European_1950",DATUM["D_European_1950",SPHEROID["International_1924",6378388.0,297.0]],PRIMEM["Greenwich",0.0],UNIT["Degree",0.0174532925199433]],PROJECTION["Transverse_Mercator"],PARAMETER["False_Easting",500000.0],PARAMETER["False_Northing",0.0],PARAMETER["Central_Meridian",30.0],PARAMETER["Scale_Factor",1.0],PARAMETER["Latitude_Of_Origin",0.0],UNIT["Meter",1.0]]
Single Fused Map Cache: true
Tile Info:
- Height: 512
- Width: 512
- DPI: 96
- Levels of Detail: (# Levels: 13)
-
Level ID: 0
[Start Tile,
End Tile]
Resolution: 8.99585132503598
Scale: 34000
-
Level ID: 1
[Start Tile,
End Tile]
Resolution: 6.3500127000254
Scale: 24000
-
Level ID: 2
[Start Tile,
End Tile]
Resolution: 4.23334180001693
Scale: 16000
-
Level ID: 3
[Start Tile,
End Tile]
Resolution: 2.64583862501058
Scale: 10000
-
Level ID: 4
[Start Tile,
End Tile]
Resolution: 2.11667090000847
Scale: 8000
-
Level ID: 5
[Start Tile,
End Tile]
Resolution: 1.58750317500635
Scale: 6000
-
Level ID: 6
[Start Tile,
End Tile]
Resolution: 1.32291931250529
Scale: 5000
-
Level ID: 7
[Start Tile,
End Tile]
Resolution: 1.05833545000423
Scale: 4000
-
Level ID: 8
[Start Tile,
End Tile]
Resolution: 0.529167725002117
Scale: 2000
-
Level ID: 9
[Start Tile,
End Tile]
Resolution: 0.264583862501058
Scale: 1000
-
Level ID: 10
[Start Tile,
End Tile]
Resolution: 0.198437896875794
Scale: 750
-
Level ID: 11
[Start Tile,
End Tile]
Resolution: 0.132291931250529
Scale: 500
-
Level ID: 12
[Start Tile,
End Tile]
Resolution: 0.0661459656252646
Scale: 250
- Format: PNG8
- Compression Quality: 0
-
Origin:
- Spatial Reference: PROJCS["Transverse Mercator",GEOGCS["GCS_European_1950",DATUM["D_European_1950",SPHEROID["International_1924",6378388.0,297.0]],PRIMEM["Greenwich",0.0],UNIT["Degree",0.0174532925199433]],PROJECTION["Transverse_Mercator"],PARAMETER["False_Easting",500000.0],PARAMETER["False_Northing",0.0],PARAMETER["Central_Meridian",30.0],PARAMETER["Scale_Factor",1.0],PARAMETER["Latitude_Of_Origin",0.0],UNIT["Meter",1.0]]
Intial Extent:
XMin: -10553.8354337968
YMin: 7685.1074504458
XMax: -4638.14497916702
YMax: 15069.3855440748
Spatial Reference: PROJCS["Transverse Mercator",GEOGCS["GCS_European_1950",DATUM["D_European_1950",SPHEROID["International_1924",6378388.0,297.0]],PRIMEM["Greenwich",0.0],UNIT["Degree",0.0174532925199433]],PROJECTION["Transverse_Mercator"],PARAMETER["False_Easting",500000.0],PARAMETER["False_Northing",0.0],PARAMETER["Central_Meridian",30.0],PARAMETER["Scale_Factor",1.0],PARAMETER["Latitude_Of_Origin",0.0],UNIT["Meter",1.0]]
Full Extent:
XMin: -10553.8354348678
YMin: 7687.43684196952
XMax: -4638.14495667558
YMax: 15020.4683220765
Spatial Reference: PROJCS["Transverse Mercator",GEOGCS["GCS_European_1950",DATUM["D_European_1950",SPHEROID["International_1924",6378388.0,297.0]],PRIMEM["Greenwich",0.0],UNIT["Degree",0.0174532925199433]],PROJECTION["Transverse_Mercator"],PARAMETER["False_Easting",500000.0],PARAMETER["False_Northing",0.0],PARAMETER["Central_Meridian",30.0],PARAMETER["Scale_Factor",1.0],PARAMETER["Latitude_Of_Origin",0.0],UNIT["Meter",1.0]]
Units: esriMeters
Supported Image Format Types: PNG24,PNG,JPG,DIB,TIFF,EMF,PS,PDF,GIF,SVG,SVGZ,AI
Document Info:
- Title: kgt.mxd
- Author: 8085
- Comments:
- Subject:
- Category:
- Keywords:
Supported Interfaces:
REST
SOAP
WMS
Supported Operations:
Export Map
Identify
Find
Generate KML